BEGIN:VCALENDAR
VERSION:2.0
PRODID:-//Greater Newark Health Care Coalition - ECPv6.15.20//NONSGML v1.0//EN
CALSCALE:GREGORIAN
METHOD:PUBLISH
X-ORIGINAL-URL:https://greaternewarkhcc.org
X-WR-CALDESC:Events for Greater Newark Health Care Coalition
REFRESH-INTERVAL;VALUE=DURATION:PT1H
X-Robots-Tag:noindex
X-PUBLISHED-TTL:PT1H
BEGIN:VTIMEZONE
TZID:America/New_York
BEGIN:DAYLIGHT
TZOFFSETFROM:-0500
TZOFFSETTO:-0400
TZNAME:EDT
DTSTART:20250309T070000
END:DAYLIGHT
BEGIN:STANDARD
TZOFFSETFROM:-0400
TZOFFSETTO:-0500
TZNAME:EST
DTSTART:20251102T060000
END:STANDARD
BEGIN:DAYLIGHT
TZOFFSETFROM:-0500
TZOFFSETTO:-0400
TZNAME:EDT
DTSTART:20260308T070000
END:DAYLIGHT
BEGIN:STANDARD
TZOFFSETFROM:-0400
TZOFFSETTO:-0500
TZNAME:EST
DTSTART:20261101T060000
END:STANDARD
BEGIN:DAYLIGHT
TZOFFSETFROM:-0500
TZOFFSETTO:-0400
TZNAME:EDT
DTSTART:20270314T070000
END:DAYLIGHT
BEGIN:STANDARD
TZOFFSETFROM:-0400
TZOFFSETTO:-0500
TZNAME:EST
DTSTART:20271107T060000
END:STANDARD
END:VTIMEZONE
BEGIN:VEVENT
DTSTART;TZID=America/New_York:20260328T103000
DTEND;TZID=America/New_York:20260328T130000
DTSTAMP:20260421T060525
CREATED:20260326T162121Z
LAST-MODIFIED:20260326T162121Z
UID:3415-1774693800-1774702800@greaternewarkhcc.org
SUMMARY:Spark Up The Dream: Free Resources Fair - Women's Empowerment Day
DESCRIPTION:
URL:https://greaternewarkhcc.org/event/spark-up-the-dream-free-resources-fair-womens-empowerment-day/
LOCATION:Family Success Center\, 432 Lafayette Street\, Newark\, NJ\, 07105\, United States
END:VEVENT
END:VCALENDAR